BEGIN:VCALENDAR
VERSION:2.0
PRODID:icalendar-ruby
CALSCALE:GREGORIAN
METHOD:PUBLISH
BEGIN:VEVENT
DTSTAMP:20260422T180329Z
UID:fe7e9ff6-a0e6-4271-b2c8-fb65c829b107
DTSTART:20260508T113000
DTEND:20260508T123000
LOCATION:Biedersteiner Straße 29\, Seminarraum Gebäude 603\n\nJoin Zoom
  Meeting\nhttps://zoom.us/j/94574002878?pwd=gA00ogmEoSkIW54NUfEvZCi4uSslr
 2.1\nMeeting ID: 945 7400 2878\nPasscode: 257802
SUMMARY:Alvaro Sagasti: Interactions between sensory axons and epithelial 
 cells shape skin and sensory neuron development
END:VEVENT
END:VCALENDAR
